BEGIN:VCALENDAR
VERSION:2.0
PRODID:-//Les activités Solidaris - ECPv6.15.20//NONSGML v1.0//EN
CALSCALE:GREGORIAN
METHOD:PUBLISH
X-ORIGINAL-URL:https://www.activites-solidaris.be
X-WR-CALDESC:Évènements pour Les activités Solidaris
REFRESH-INTERVAL;VALUE=DURATION:PT1H
X-Robots-Tag:noindex
X-PUBLISHED-TTL:PT1H
BEGIN:VTIMEZONE
TZID:UTC
BEGIN:STANDARD
TZOFFSETFROM:+0000
TZOFFSETTO:+0000
TZNAME:UTC
DTSTART:20250101T000000
END:STANDARD
END:VTIMEZONE
BEGIN:VEVENT
DTSTART;TZID=UTC:20260309T080000
DTEND;TZID=UTC:20260522T170000
DTSTAMP:20260424T154808
CREATED:20260309T114149Z
LAST-MODIFIED:20260420T141727Z
UID:10000017-1773043200-1779469200@www.activites-solidaris.be
SUMMARY:Stage et séjour - Adultes - Eté- Charleroi - Esenca - Charleroi C S
DESCRIPTION:Stage et séjour adultes
URL:https://www.activites-solidaris.be/event/stage-et-sejour-adlutes/
CATEGORIES:Activités,Adultes,Associations,Charleroi, centre et Soignies,Esenca,Eté,Période,Publics,Régions,Stages et séjours
ATTACH;FMTTYPE=image/png:https://www.activites-solidaris.be/wp-content/uploads/2025/04/illu-Soralia.png
END:VEVENT
END:VCALENDAR