BEGIN:VCALENDAR
VERSION:2.0
PRODID:-//Les activités Solidaris - ECPv6.15.20//NONSGML v1.0//EN
CALSCALE:GREGORIAN
METHOD:PUBLISH
X-WR-CALNAME:Les activités Solidaris
X-ORIGINAL-URL:https://www.activites-solidaris.be
X-WR-CALDESC:Évènements pour Les activités Solidaris
REFRESH-INTERVAL;VALUE=DURATION:PT1H
X-Robots-Tag:noindex
X-PUBLISHED-TTL:PT1H
BEGIN:VTIMEZONE
TZID:UTC
BEGIN:STANDARD
TZOFFSETFROM:+0000
TZOFFSETTO:+0000
TZNAME:UTC
DTSTART:20250101T000000
END:STANDARD
END:VTIMEZONE
BEGIN:VEVENT
DTSTART;TZID=UTC:20260306T080000
DTEND;TZID=UTC:20260529T170000
DTSTAMP:20260422T223432
CREATED:20260306T101851Z
LAST-MODIFIED:20260420T141937Z
UID:10000015-1772784000-1780074000@www.activites-solidaris.be
SUMMARY:Stages et séjours - 0 à 12 ans - Brabant Bxl - Centre PF et Latitudejeunes - Détente
DESCRIPTION:Stage et séjours 0 à 12 ans
URL:https://www.activites-solidaris.be/event/stages-et-sejours-0-a-12-ans/
CATEGORIES:Activités,Associations,Brabant Bruxelles,Centres de Planning Familial,Détente,Enfants 0 à 12 ans,Latitude Jeunes,Période,Publics,Régions,Stages et séjours
ATTACH;FMTTYPE=image/png:https://www.activites-solidaris.be/wp-content/uploads/2026/01/Sport-sante.png
END:VEVENT
END:VCALENDAR