BEGIN:VCALENDAR
VERSION:2.0
PRODID:-//Les activités Solidaris - ECPv6.15.20//NONSGML v1.0//EN
CALSCALE:GREGORIAN
METHOD:PUBLISH
X-WR-CALNAME:Les activités Solidaris
X-ORIGINAL-URL:https://www.activites-solidaris.be
X-WR-CALDESC:Évènements pour Les activités Solidaris
REFRESH-INTERVAL;VALUE=DURATION:PT1H
X-Robots-Tag:noindex
X-PUBLISHED-TTL:PT1H
BEGIN:VTIMEZONE
TZID:UTC
BEGIN:STANDARD
TZOFFSETFROM:+0000
TZOFFSETTO:+0000
TZNAME:UTC
DTSTART:20250101T000000
END:STANDARD
END:VTIMEZONE
BEGIN:VTIMEZONE
TZID:Europe/Brussels
BEGIN:DAYLIGHT
TZOFFSETFROM:+0100
TZOFFSETTO:+0200
TZNAME:CEST
DTSTART:20250330T010000
END:DAYLIGHT
BEGIN:STANDARD
TZOFFSETFROM:+0200
TZOFFSETTO:+0100
TZNAME:CET
DTSTART:20251026T010000
END:STANDARD
BEGIN:DAYLIGHT
TZOFFSETFROM:+0100
TZOFFSETTO:+0200
TZNAME:CEST
DTSTART:20260329T010000
END:DAYLIGHT
BEGIN:STANDARD
TZOFFSETFROM:+0200
TZOFFSETTO:+0100
TZNAME:CET
DTSTART:20261025T010000
END:STANDARD
BEGIN:DAYLIGHT
TZOFFSETFROM:+0100
TZOFFSETTO:+0200
TZNAME:CEST
DTSTART:20270328T010000
END:DAYLIGHT
BEGIN:STANDARD
TZOFFSETFROM:+0200
TZOFFSETTO:+0100
TZNAME:CET
DTSTART:20271031T010000
END:STANDARD
END:VTIMEZONE
BEGIN:VTIMEZONE
TZID:Europe/Paris
BEGIN:DAYLIGHT
TZOFFSETFROM:+0100
TZOFFSETTO:+0200
TZNAME:CEST
DTSTART:20250330T010000
END:DAYLIGHT
BEGIN:STANDARD
TZOFFSETFROM:+0200
TZOFFSETTO:+0100
TZNAME:CET
DTSTART:20251026T010000
END:STANDARD
BEGIN:DAYLIGHT
TZOFFSETFROM:+0100
TZOFFSETTO:+0200
TZNAME:CEST
DTSTART:20260329T010000
END:DAYLIGHT
BEGIN:STANDARD
TZOFFSETFROM:+0200
TZOFFSETTO:+0100
TZNAME:CET
DTSTART:20261025T010000
END:STANDARD
BEGIN:DAYLIGHT
TZOFFSETFROM:+0100
TZOFFSETTO:+0200
TZNAME:CEST
DTSTART:20270328T010000
END:DAYLIGHT
BEGIN:STANDARD
TZOFFSETFROM:+0200
TZOFFSETTO:+0100
TZNAME:CET
DTSTART:20271031T010000
END:STANDARD
END:VTIMEZONE
BEGIN:VEVENT
DTSTART;TZID=UTC:20260319T080000
DTEND;TZID=UTC:20260319T170000
DTSTAMP:20260422T184119
CREATED:20260319T153506Z
LAST-MODIFIED:20260319T153506Z
UID:10000037-1773907200-1773939600@www.activites-solidaris.be
SUMMARY:Atelier Peinture - Charleroi - Plus de 12 ans
DESCRIPTION:Atelier Peinture – Charleroi – Plus de 12 ans
URL:https://www.activites-solidaris.be/event/atelier-peinture-charleroi-plus-de-12-ans/
CATEGORIES:Activités,Ateliers,Charleroi, centre et Soignies,Jeunes plus de 18 ans,Publics,Régions
ATTACH;FMTTYPE=image/jpeg:https://www.activites-solidaris.be/wp-content/uploads/2026/03/PosterA3_creation_oeuvre_commune_14.03.2026-scaled-quFUAe.jpg
END:VEVENT
BEGIN:VEVENT
DTSTART;TZID=Europe/Brussels:20260319T080000
DTEND;TZID=Europe/Brussels:20260319T170000
DTSTAMP:20260422T184119
CREATED:20260319T152203Z
LAST-MODIFIED:20260319T152206Z
UID:10000036-1773907200-1773939600@www.activites-solidaris.be
SUMMARY:Test Anouar event From Esenca
DESCRIPTION:Test Anouar event From Esenca
URL:https://www.activites-solidaris.be/event/test-anouar-event-from-esenca/
END:VEVENT
BEGIN:VEVENT
DTSTART;TZID=Europe/Paris:20260319T080000
DTEND;TZID=Europe/Paris:20260319T170000
DTSTAMP:20260422T184119
CREATED:20260319T150007Z
LAST-MODIFIED:20260319T150009Z
UID:10000035-1773907200-1773939600@www.activites-solidaris.be
SUMMARY:Test event Anouar
DESCRIPTION:Test event Anouar
URL:https://www.activites-solidaris.be/event/test-event-anouar/
CATEGORIES:Stages et séjours
END:VEVENT
END:VCALENDAR